BEGIN:VCALENDAR
VERSION:2.0
PRODID:-//Tech Manitoba Tech Week - ECPv6.15.11//NONSGML v1.0//EN
CALSCALE:GREGORIAN
METHOD:PUBLISH
X-ORIGINAL-URL:https://mbtechweek.ca
X-WR-CALDESC:Events for Tech Manitoba Tech Week
REFRESH-INTERVAL;VALUE=DURATION:PT1H
X-Robots-Tag:noindex
X-PUBLISHED-TTL:PT1H
BEGIN:VTIMEZONE
TZID:UTC
BEGIN:STANDARD
TZOFFSETFROM:+0000
TZOFFSETTO:+0000
TZNAME:UTC
DTSTART:20240101T000000
END:STANDARD
END:VTIMEZONE
BEGIN:VEVENT
DTSTART;TZID=UTC:20250228T190000
DTEND;TZID=UTC:20250301T020000
DTSTAMP:20260423T140945
CREATED:20250115T230725Z
LAST-MODIFIED:20250221T200513Z
UID:10000061-1740769200-1740794400@mbtechweek.ca
SUMMARY:MbTech Week Pub Crawl
DESCRIPTION:As MbTech Week winds down\, join us for a relaxed and lively pub crawl that’s all about connecting with fellow tech enthusiasts\, professionals\, and community members in a fun and informal setting. \nWhether you’re looking to make new friends\, expand your network\, or simply enjoy a night out\, this event is the perfect way to wrap up an inspiring week of innovation and discovery. No need to be a drinker to participate—this evening is all about the connections and conversations\, with the added bonus of some of Downtown Winnipeg’s finest venues to set the stage. \nLocations: \n\n7:00PM  – Darling Bar (Starting Point)\nBegin the night with a warm welcome and good vibes at Darling Bar\, where you can meet fellow pub crawlers and ease into the evening.\n9:00 PM – Shannon’s Irish Pub (Meet in the Middle)\nA cozy spot to keep the night rolling. Enjoy great conversation and discover new connections in the tech community.\n10:30 PM – The King’s Head (Final Stop)\nEnd the night at one of Winnipeg’s favorite pubs! The King’s Head is the perfect spot to celebrate new connections\, share laughs\, and maybe even plan the next meetup.\n\nThis 18+ event invites all members of the tech community and beyond to join in the fun. You don’t have to drink to be part of the experience; come for the company and stay for the camaraderie. While each venue offers a unique selection of food and beverages available for purchase\, the true highlight of the evening will be the relationships and memories made along the way. \nAs this is a pub crawl\, remember to bring valid ID (18+)\, plan your transportation in advance\, and prepare for a safe\, enjoyable night. Registration is encouraged to help us ensure a great experience for all. \nWe can’t wait to see you there! Cheers to making new connections and celebrating the spirit of MbTech Week in style.
URL:https://mbtechweek.ca/event/mbtech-week-pub-crawl-2/
LOCATION:Darling Bar\, 171 McDermot Ave\, Winnipeg\, Manitoba\, R3B 0S1\, Canada
CATEGORIES:In-Person
ORGANIZER;CN="Tiny Bison Ventures":MAILTO:wiensmarcus@gmail.com
END:VEVENT
END:VCALENDAR