BEGIN:VCALENDAR
VERSION:2.0
PRODID:-//Tech Manitoba Tech Week - ECPv6.15.11//NONSGML v1.0//EN
CALSCALE:GREGORIAN
METHOD:PUBLISH
X-ORIGINAL-URL:https://mbtechweek.ca
X-WR-CALDESC:Events for Tech Manitoba Tech Week
REFRESH-INTERVAL;VALUE=DURATION:PT1H
X-Robots-Tag:noindex
X-PUBLISHED-TTL:PT1H
BEGIN:VTIMEZONE
TZID:America/Winnipeg
BEGIN:DAYLIGHT
TZOFFSETFROM:-0600
TZOFFSETTO:-0500
TZNAME:CDT
DTSTART:20230312T080000
END:DAYLIGHT
BEGIN:STANDARD
TZOFFSETFROM:-0500
TZOFFSETTO:-0600
TZNAME:CST
DTSTART:20231105T070000
END:STANDARD
BEGIN:DAYLIGHT
TZOFFSETFROM:-0600
TZOFFSETTO:-0500
TZNAME:CDT
DTSTART:20240310T080000
END:DAYLIGHT
BEGIN:STANDARD
TZOFFSETFROM:-0500
TZOFFSETTO:-0600
TZNAME:CST
DTSTART:20241103T070000
END:STANDARD
BEGIN:DAYLIGHT
TZOFFSETFROM:-0600
TZOFFSETTO:-0500
TZNAME:CDT
DTSTART:20250309T080000
END:DAYLIGHT
BEGIN:STANDARD
TZOFFSETFROM:-0500
TZOFFSETTO:-0600
TZNAME:CST
DTSTART:20251102T070000
END:STANDARD
END:VTIMEZONE
BEGIN:VTIMEZONE
TZID:UTC
BEGIN:STANDARD
TZOFFSETFROM:+0000
TZOFFSETTO:+0000
TZNAME:UTC
DTSTART:20230101T000000
END:STANDARD
END:VTIMEZONE
BEGIN:VEVENT
DTSTART;TZID=America/Winnipeg:20240226T160000
DTEND;TZID=America/Winnipeg:20240226T200000
DTSTAMP:20260420T181408
CREATED:20231206T174119Z
LAST-MODIFIED:20240214T153512Z
UID:10000015-1708963200-1708977600@mbtechweek.ca
SUMMARY:ignition
DESCRIPTION:Join us for an evening of meaningful connections\, where you can engage with influential peers\, explore potential collaborations\, and connect with industry leaders\, all within a lively and welcoming ambiance. \nBut that’s not all – the evening will feature a keynote presentation on “Leadership and AI: Building High-performing Teams” by Eric Termuende. In a world where technology is evolving rapidly\, understanding how to lead teams in the age of AI is crucial. \nPowered by Exchange Technology Services \n  \n(ticket sales are now closed)
URL:https://mbtechweek.ca/event/ignition/
LOCATION:Delta Hotel\, 350 St Mary Ave\, Winnipeg\, Manitoba\, R3C 3J2\, Canada
CATEGORIES:In-Person
ATTACH;FMTTYPE=image/jpeg:https://mbtechweek.ca/wp-content/uploads/2023/12/Ignition-Event-Calendar-scaled.jpg
ORGANIZER;CN="Tech Manitoba":MAILTO:sstimpson@techmanitoba.ca
END:VEVENT
BEGIN:VEVENT
DTSTART;TZID=UTC:20240226T160000
DTEND;TZID=UTC:20240226T200000
DTSTAMP:20260420T181408
CREATED:20240825T235008Z
LAST-MODIFIED:20240904T171706Z
UID:10000036-1708963200-1708977600@mbtechweek.ca
SUMMARY:Ignition - A Networking Event
DESCRIPTION:  \n\nAbout this event:\n\n\nignition – Powered by Exchange Technology Services  \n \n\nTicket Sales Closed – Please contact Shaelynn at sstimpson@techmanitoba.ca for any last minute requests.  \nJoin us for an evening of meaningful connections\, where you can engage with influential peers\, explore potential collaborations\, and connect with industry leaders\, all within a lively and welcoming ambiance. \nWine and dine with a stocked bar\, passed hors d’ oeuvres and interactive food stations. \n  \nBut that’s not all – the evening will feature a keynote presentation on “Leadership and AI: Building High-performing Teams” by Eric Termuende. In a world where technology is evolving rapidly\, understanding how to lead teams in the age of AI is crucial. \nKeynote Presentation Highlights: \n• Demystifying AI: Gain a clear understanding of what AI is\, how it’s transforming the world of work\, and what to watch out for.\n\n• Building Trust Amid Change: Learn strategies to build trust within your team\, especially in the face of constant change.\n\n• Boosting Engagement and Removing Friction: Discover three actionable tips to enhance engagement\, reduce friction\, and navigate uncertainty effectively.\n\n• AI as a Tool\, Not a Threat: Understand why AI is a valuable tool and how it can complement\, rather than replace\, human leadership.\n\nDon’t miss out on this incredible opportunity to expand your professional network\, make lasting connections\, and enhance your leadership skills in the AI era.
URL:https://mbtechweek.ca/event/test-event-2/
LOCATION:Centennial Concert Hall\, 555 Main Street\, Winnipeg\, Manitoba\, R3B 1C3\, Canada
CATEGORIES:In-Person
END:VEVENT
BEGIN:VEVENT
DTSTART;TZID=UTC:20240227T093000
DTEND;TZID=UTC:20240227T113000
DTSTAMP:20260420T181408
CREATED:20240104T215047Z
LAST-MODIFIED:20240222T203417Z
UID:10000016-1709026200-1709033400@mbtechweek.ca
SUMMARY:Building the Innovation Mindset
DESCRIPTION:– Registration is now closed – \nYour next tech innovation must be tied directly to your business strategy. Why? To ensure that your time\, energy and money are invested in the right innovative tech solution. Too often organizations get caught up innovating on pet projects that later fall flat. \nCome learn with us as we walk you through a repeatable process for innovation that clears the path from common pitfalls. \n  \n 
URL:https://mbtechweek.ca/event/building-the-innovation-mindset/
LOCATION:inVision Edge Studio\, 135 Innovation Drive\, Winnipeg\, Manitoba\, R3T 2T8\, Canada
CATEGORIES:In-Person
ATTACH;FMTTYPE=image/jpeg:https://mbtechweek.ca/wp-content/uploads/2024/01/inVisionEdge-Event-Calendar.png-e1705096212363.jpg
END:VEVENT
BEGIN:VEVENT
DTSTART;TZID=UTC:20240227T100000
DTEND;TZID=UTC:20240227T133000
DTSTAMP:20260420T181408
CREATED:20240205T194519Z
LAST-MODIFIED:20240205T194700Z
UID:10000025-1709028000-1709040600@mbtechweek.ca
SUMMARY:Save the Data
DESCRIPTION:An interactive\, role-playing\, tabletop exercise—drops you into the middle of a ransomware attack based on real-life events. \nRansomware is one of the biggest threats to your data\, which makes it one of the biggest threats to your business. When ransomware takes a business down\, 58% of businesses stay down for more than a month. Most people’s first experience with ransomware occurs when it’s happening to their business. But trial-by-fire training isn’t the approach you want to take when your organization’s data is at stake.
URL:https://mbtechweek.ca/event/save-the-data/
LOCATION:Winnipeg Winter Club\, 200 River Ave\, Winnipeg\, Manitoba\, R3L 0B2\, Canada
ATTACH;FMTTYPE=image/jpeg:https://mbtechweek.ca/wp-content/uploads/2024/02/Infomatix-Event.jpg
ORGANIZER;CN="Informanix Technology Group":MAILTO:kmolotkin@informanix.com
END:VEVENT
BEGIN:VEVENT
DTSTART;TZID=UTC:20240227T120000
DTEND;TZID=UTC:20240227T130000
DTSTAMP:20260420T181408
CREATED:20231212T173101Z
LAST-MODIFIED:20240206T202430Z
UID:10000018-1709035200-1709038800@mbtechweek.ca
SUMMARY:Agtech Adoption: Empowering Growers through Data Literacy Training
DESCRIPTION:Agriculture is a key part of Manitoba’s economy and it is undergoing a rapid digital transformation as new technology is integrated into farm businesses and across the agri-food value chain. \nJoin Dan Lussier\, Director of EMILI’s Canadian Agri-Food Data Initiative\, to discuss technology adoption in the agriculture sector and the role that data literacy plays in driving the successful deployment of AGTech tools and the use of farm data.
URL:https://mbtechweek.ca/event/agtech-adoption/
LOCATION:Virtual\, Winnipeg\, Manitoba\, Canada
CATEGORIES:Virtual
ATTACH;FMTTYPE=image/jpeg:https://mbtechweek.ca/wp-content/uploads/2023/12/Agtech-1.jpg
ORGANIZER;CN="EMILI":MAILTO:lglennie@emilicanada.com
END:VEVENT
BEGIN:VEVENT
DTSTART;TZID=UTC:20240227T173000
DTEND;TZID=UTC:20240227T200000
DTSTAMP:20260420T181408
CREATED:20240208T181101Z
LAST-MODIFIED:20240215T170708Z
UID:10000029-1709055000-1709064000@mbtechweek.ca
SUMMARY:Demystifying Due Diligence for Startups
DESCRIPTION:Venturing into the world of startups can be as daunting as it is exhilarating\, especially when confronted with the enigmatic challenge of raising capital. For many entrepreneurs\, due diligence remains a formidable unknown part of raising\, shrouded in complexity and uncertainty. \nThis seminar is specifically designed to illuminate this critical phase\, guiding early-stage startup founders through the maze of due diligence with clarity and confidence. \nSEE has invited Richard Tuck\, Manitoba and Finance Lead for Startup TNT\, Canada’s most active early-stage angel investing syndicate\, to go through the process and explain where most startups raise red-flags to potential investors.
URL:https://mbtechweek.ca/event/demystifying-due-diligence-for-startups/
LOCATION:Manitoba Technology Accelerator\, 800-136 Market Ave\, Winnipeg\, Manitoba\, R3B 0P4\, Canada
CATEGORIES:In-Person
ATTACH;FMTTYPE=image/jpeg:https://mbtechweek.ca/wp-content/uploads/2024/02/SEE-event-2.jpg
ORGANIZER;CN="Social Entrepreneurship Enclave":MAILTO:akelly@seenclave.ca
END:VEVENT
BEGIN:VEVENT
DTSTART;TZID=UTC:20240227T180000
DTEND;TZID=UTC:20240227T193000
DTSTAMP:20260420T181408
CREATED:20240130T225714Z
LAST-MODIFIED:20240206T220309Z
UID:10000023-1709056800-1709062200@mbtechweek.ca
SUMMARY:Tech - Yours to Discover
DESCRIPTION:Join us for an exciting in-person event\, where the world of technology at SKIP is yours to explore! Whether you’re a tech enthusiast\, a curious beginner\, or a seasoned pro\, this event is for you! \nAt Tech – Yours to Discover\, you’ll have the chance to interact with the brilliant minds of the SKIP Engineering\, Product\, and Delivery teams! Attend this informative evening event and engage in thought-provoking discussions with our industry experts.
URL:https://mbtechweek.ca/event/tech-yours-to-discover/
LOCATION:SkipTheDishes\, 410 – 242 Hargrave Street\, Winnipeg\, Manitoba\, R3C 0M8\, Canada
CATEGORIES:Hybrid
ATTACH;FMTTYPE=image/jpeg:https://mbtechweek.ca/wp-content/uploads/2024/01/Skip-Event-e1706657617662.jpg
END:VEVENT
BEGIN:VEVENT
DTSTART;TZID=UTC:20240227T180000
DTEND;TZID=UTC:20240227T200000
DTSTAMP:20260420T181408
CREATED:20240205T223916Z
LAST-MODIFIED:20240205T223916Z
UID:10000026-1709056800-1709064000@mbtechweek.ca
SUMMARY:DigitALL 2.0 Tech Tuesday
DESCRIPTION:Intro to Google Sheets – for beginners \nTech Tuesday are FREE online classes open to everyone. These courses give participants a basic understanding of computers and help them to gain skills using common digital tools such as email\, social media\, as well as communication and presentation tools for personal\, professional or school projects. \nDigitALL\, aims to improve Manitoban’s skills and confidence with computers and the internet. The program is funded by Innovation\, Science and Economic Development Canada (ISED)\, which allows everyone to access training at no cost.
URL:https://mbtechweek.ca/event/digitall-2-0-tech-tuesday/
LOCATION:Virtual\, Winnipeg\, Manitoba\, Canada
CATEGORIES:Virtual
ATTACH;FMTTYPE=image/jpeg:https://mbtechweek.ca/wp-content/uploads/2023/11/5c56a42e7320346cc8ba18f65fe52e3d-1.jpeg
ORGANIZER;CN="DigitALL 2.0":MAILTO:rmanych@techmanitoba.ca
END:VEVENT
BEGIN:VEVENT
DTSTART;TZID=UTC:20240227T180000
DTEND;TZID=UTC:20240227T200000
DTSTAMP:20260420T181408
CREATED:20240206T145011Z
LAST-MODIFIED:20240206T160049Z
UID:10000027-1709056800-1709064000@mbtechweek.ca
SUMMARY:North Forge Fabrication Lab Open House
DESCRIPTION:Tour Manitoba’s only public fabrication lab! Discover how entrepreneurial members are starting businesses. See 3D printing\, laser cutting\, computer-controlled routing\, plasma cutting\, vacuum forming\, and many other processes that can transform wood\, plastic\, steel\, glass\, fabric and more\, into fantastic prototypes. Learn how you can transform your idea into a real product/business. \nExperienced members will be on hand to help you understand the equipment and explain what the North Forge Fabrication Lab is all about. \nRegistration to attend an open house tour is required.
URL:https://mbtechweek.ca/event/north-forge-fabrication-lab-open-house/
LOCATION:North Forge Fabrication Lab\, 312 William Ave\, Winnipeg\, Manitoba\, R3A 0W4\, Canada
CATEGORIES:In-Person
ATTACH;FMTTYPE=image/jpeg:https://mbtechweek.ca/wp-content/uploads/2024/02/North-Forge-Event-Fab-lab2-e1707235061710.jpg
ORGANIZER;CN="North Forge":MAILTO:ddriedger@northforge.ca
END:VEVENT
BEGIN:VEVENT
DTSTART;TZID=UTC:20240228T073000
DTEND;TZID=UTC:20240228T090000
DTSTAMP:20260420T181408
CREATED:20240124T171846Z
LAST-MODIFIED:20240130T233741Z
UID:10000022-1709105400-1709110800@mbtechweek.ca
SUMMARY:Pitching Better: Overcoming Bias in Fundraising
DESCRIPTION:Join MBWiTech for a transformative morning with Jennifer Chiang of Amazon Web Services. She will unveil the secrets to strategically optimizing your startup’s fundraising journey using Dr. Laura Huang’s empowering approach from “Edge – Turning Adversity into Advantage. Discover the art of overcoming bias and gain invaluable insights to transform challenges into opportunities and elevate your entrepreneurial journey!
URL:https://mbtechweek.ca/event/pitching-better-overcoming-bias-in-fundraising/
LOCATION:Delta Hotel\, 350 St Mary Ave\, Winnipeg\, Manitoba\, R3C 3J2\, Canada
ATTACH;FMTTYPE=image/jpeg:https://mbtechweek.ca/wp-content/uploads/2024/01/IG_Story_-_room_for_less_text.jpg
END:VEVENT
BEGIN:VEVENT
DTSTART;TZID=UTC:20240228T090000
DTEND;TZID=UTC:20240228T153000
DTSTAMP:20260420T181408
CREATED:20240105T142758Z
LAST-MODIFIED:20240115T161359Z
UID:10000017-1709110800-1709134200@mbtechweek.ca
SUMMARY:Intellectual Property Summit
DESCRIPTION:Why Intellectual Property Matters for Start-ups:\nIn an era driven by innovation\, understanding and safeguarding intellectual property is crucial for the success of startups. Our summit aims to raise awareness about the significance of intellectual property rights\, providing startups with the insights needed to protect their ideas and creations. \nJoin us as we bring together industry experts\, entrepreneurs\, and legal professionals for a day of insights\, discussions\, and networking.
URL:https://mbtechweek.ca/event/intellectual-property-summit/
LOCATION:Delta Hotel\, 350 St Mary Ave\, Winnipeg\, Manitoba\, R3C 3J2\, Canada
CATEGORIES:In-Person
ATTACH;FMTTYPE=image/jpeg:https://mbtechweek.ca/wp-content/uploads/2024/01/North-Forge-Event.jpg
ORGANIZER;CN="North Forge":MAILTO:ddriedger@northforge.ca
END:VEVENT
BEGIN:VEVENT
DTSTART;TZID=UTC:20240228T100000
DTEND;TZID=UTC:20240228T110000
DTSTAMP:20260420T181408
CREATED:20240110T173200Z
LAST-MODIFIED:20240202T204519Z
UID:10000020-1709114400-1709118000@mbtechweek.ca
SUMMARY:Business Process Automation & Copilot Introduction
DESCRIPTION:A one-hour event showcasing how to automate processes common to small and medium businesses and explore the capabilities of Power BI’s AI-driven features for data analysis. \nWe will show examples of leveraging Microsoft 365 tools to produce workflow automation\, AI-powered data preparations\, visualization\, task creation\, data capture\, reports\, and Key Performance Indicators (KPI) dashboards. \n 
URL:https://mbtechweek.ca/event/business-process-automation/
LOCATION:Virtual\, Winnipeg\, Manitoba\, Canada
CATEGORIES:Virtual
ATTACH;FMTTYPE=image/jpeg:https://mbtechweek.ca/wp-content/uploads/2024/01/Broadview-Event.jpg
ORGANIZER;CN="Broadview Networks":MAILTO:shamel@broadviewnetworks.ca
END:VEVENT
BEGIN:VEVENT
DTSTART;TZID=UTC:20240228T163000
DTEND;TZID=UTC:20240228T183000
DTSTAMP:20260420T181408
CREATED:20240112T213429Z
LAST-MODIFIED:20240213T145325Z
UID:10000021-1709137800-1709145000@mbtechweek.ca
SUMMARY:Experience Change with LNG
DESCRIPTION:A Happy Hour Networking Mixer that promises not just a change in scenery\, but a change in perspective! Join us at our brand-new office and listen to our keynote speaker Sunny Bajaj present on Change Management. \nSunny is a professional management consultant with over twenty-three years of experience\, leading and managing change initiatives across all industries. Her impressive background includes strategy and change\, project management\, IT audit and controls\, and business analysis. \n 
URL:https://mbtechweek.ca/event/experience-change-with-lng/
LOCATION:Lambert Nemec Group\, 2130-201 Portage Ave\, Winnipeg\, Manitoba\, R3C 0B9\, Canada
CATEGORIES:In-Person
ATTACH;FMTTYPE=image/jpeg:https://mbtechweek.ca/wp-content/uploads/2024/01/LNG-image-e1707835988919.jpg
ORGANIZER;CN="Lambert Nemec Group":MAILTO:mike@lambertnemec.com
END:VEVENT
BEGIN:VEVENT
DTSTART;TZID=UTC:20240229T090000
DTEND;TZID=UTC:20240229T110000
DTSTAMP:20260420T181408
CREATED:20240223T203756Z
LAST-MODIFIED:20240223T224551Z
UID:10000034-1709197200-1709204400@mbtechweek.ca
SUMMARY:Manitoba Innovators Breakfast
DESCRIPTION:A networking breakfast celebrating Manitoba Tech Week with fellow innovators\, founders\, investors\, and policymakers in the ecosystem\, hosted by the Council of Canadian Innovators (CCI) in partnership with SkipTheDishes and Tech Manitoba. \n  \nThis event is by invitation only. \nIf you are interested in attending please contact Jess at: jsinclair@canadianinnovators.org
URL:https://mbtechweek.ca/event/manitoba-innovators-breakfast/
LOCATION:Manitoba
CATEGORIES:In-Person
ATTACH;FMTTYPE=image/jpeg:https://mbtechweek.ca/wp-content/uploads/2024/02/1708705445065-e1708721519340.jpeg
ORGANIZER;CN="Council of Canadian Innovators":MAILTO:jsinclair@canadianinnovators.org
END:VEVENT
BEGIN:VEVENT
DTSTART;TZID=UTC:20240229T140000
DTEND;TZID=UTC:20240229T153000
DTSTAMP:20260420T181408
CREATED:20240213T180614Z
LAST-MODIFIED:20240220T221851Z
UID:10000032-1709215200-1709220600@mbtechweek.ca
SUMMARY:Discover the Future: Microsoft Technologies Unveiled
DESCRIPTION:Join us for an exclusive event that promises to reshape the way you think about productivity. “Discover the Future” is your opportunity to dive deep into the latest innovations from Microsoft\, featuring the revolutionary Copilot and a suite of other groundbreaking technologies. \n  \nAgenda: \n1. Welcome and Introduction \n2. Demonstration of Microsoft Copilot \n3. AI & Microsoft Copilot: An Overview \n– Break – \n4. Secure productivity \n5. Q&A Session \n6. How Canada Computing can assist
URL:https://mbtechweek.ca/event/discover-the-future-microsoft-technologies-unveiled/
LOCATION:Virtual\, Winnipeg\, Manitoba\, Canada
CATEGORIES:Virtual
ATTACH;FMTTYPE=image/jpeg:https://mbtechweek.ca/wp-content/uploads/2024/02/banner-techmb-scaled-e1707855179748.jpg
ORGANIZER;CN="Canada Computing":MAILTO:Mahmoud@canadacomputing.ca
END:VEVENT
BEGIN:VEVENT
DTSTART;TZID=UTC:20240229T163000
DTEND;TZID=UTC:20240229T183000
DTSTAMP:20260420T181408
CREATED:20240108T234830Z
LAST-MODIFIED:20240202T204031Z
UID:10000019-1709224200-1709231400@mbtechweek.ca
SUMMARY:The Manitoba Tech Awards 2024
DESCRIPTION:Join Tech Thursday’s us for an evening of celebration and recognition as we honor the brightest minds and exceptional achievements in the tech industry. \nWe will present awards to the top Tech Companies  across various categories including software development\, artificial intelligence\, cybersecurity\, digital marketing\, and more. \nExperience an unforgettable evening of networking and inspiration as we gather industry leaders\, entrepreneurs\, innovators\, and tech enthusiasts who are propelling the local tech industry to new heights. \n 
URL:https://mbtechweek.ca/event/the-manitoba-tech-awards-2024/
LOCATION:King’s Head Pub\, 120 King St\, Winnipeg\, Manitoba\, R3B 1H9\, Canada
CATEGORIES:In-Person
ATTACH;FMTTYPE=image/jpeg:https://mbtechweek.ca/wp-content/uploads/2024/01/Tech-Thursday-Event-scaled-e1706031494419.jpg
ORGANIZER;CN="Tech Thursdays":MAILTO:philippe.burns@techthursday.ca
END:VEVENT
BEGIN:VEVENT
DTSTART;TZID=UTC:20240229T180000
DTEND;TZID=UTC:20240229T220000
DTSTAMP:20260420T181408
CREATED:20240208T182436Z
LAST-MODIFIED:20240208T214702Z
UID:10000028-1709229600-1709244000@mbtechweek.ca
SUMMARY:StartupTNT Happy Hour
DESCRIPTION:Following the Manitoba Tech Awards will be an extra special Startup TNT Happy Hour. \nOn this special Thursday Night Tradition (TNT)\, we will continue celebrating the achievements of our tech community. \nRemarkable ecosystem leaders will be in attendance to build relationships\, honour our friends and colleagues\, and chat about how we can make 2024 better than ever!
URL:https://mbtechweek.ca/event/startuptnt-happy-hour/
LOCATION:King’s Head Pub\, 120 King St\, Winnipeg\, Manitoba\, R3B 1H9\, Canada
CATEGORIES:In-Person
ATTACH;FMTTYPE=image/jpeg:https://mbtechweek.ca/wp-content/uploads/2024/02/Start-up-tnt.jpg
ORGANIZER;CN="Startup TNT":MAILTO:richard@startuptnt.com
END:VEVENT
END:VCALENDAR